{"text_format":"3","workbook":"xlsx","n_sheets":1,"sheets":["Sheet1"],"not_rendered":{"external_links":1},"read":"whole","date_system":"1900"}

{"sheet":"Sheet1","index":0,"n_rows":42,"n_cols":6,"rows_kept":42}
["报名序号","考号","姓名","报考专业","报考职位","成绩"]
["01447","20228065908","张春新","H-影像","超声医师",{"$f":"VLOOKUP(B2,'[1]Sheet1 (2)'!$A:$D,4,FALSE)","v":56.95}]
["01516","20228065910","陈科如","H-影像","超声医师",{"$f":"VLOOKUP(B3,'[1]Sheet1 (2)'!$A:$D,4,FALSE)","v":52.25}]
["01661","20228065911","郭宁波","H-影像","超声医师",{"$f":"VLOOKUP(B4,'[1]Sheet1 (2)'!$A:$D,4,FALSE)","v":{"v":51.9,"d":"51.90"}}]
["01268","20228063902","郝琳琳","E-护理","护理",{"$f":"VLOOKUP(B5,'[1]Sheet1 (2)'!$A:$D,4,FALSE)","v":65.05}]
["00142","20228063824","陈红","E-护理","护理",{"$f":"VLOOKUP(B6,'[1]Sheet1 (2)'!$A:$D,4,FALSE)","v":{"v":62.7,"d":"62.70"}}]
["00650","20228063825","王芳","E-护理","护理",{"$f":"VLOOKUP(B7,'[1]Sheet1 (2)'!$A:$D,4,FALSE)","v":60.05}]
["00405","20228065114","李锋","I-财务","会计",{"$f":"VLOOKUP(B8,'[1]Sheet1 (2)'!$A:$D,4,FALSE)","v":65.65}]
["00822","20228065129","孟涛","I-财务","会计",{"$f":"VLOOKUP(B9,'[1]Sheet1 (2)'!$A:$D,4,FALSE)","v":{"v":64.7,"d":"64.70"}}]
["00728","20228065126","王楠","I-财务","会计",{"$f":"VLOOKUP(B10,'[1]Sheet1 (2)'!$A:$D,4,FALSE)","v":62.45}]
["00631","20228065123","李成伦","I-财务","会计",{"$f":"VLOOKUP(B11,'[1]Sheet1 (2)'!$A:$D,4,FALSE)","v":{"v":58.9,"d":"58.90"}}]
["01908","20228065230","肖永慧","I-财务","会计",{"$f":"VLOOKUP(B12,'[1]Sheet1 (2)'!$A:$D,4,FALSE)","v":{"v":57.9,"d":"57.90"}}]
["00572","20228065122","周玉龙","I-财务","会计",{"$f":"VLOOKUP(B13,'[1]Sheet1 (2)'!$A:$D,4,FALSE)","v":{"v":57.3,"d":"57.30"}}]
["00815","20228065626","宋晓欣","O-口腔","口腔医师",{"$f":"VLOOKUP(B14,'[1]Sheet1 (2)'!$A:$D,4,FALSE)","v":{"v":74,"d":"74.00"}}]
["00249","20228065621","陈道成","O-口腔","口腔医师",{"$f":"VLOOKUP(B15,'[1]Sheet1 (2)'!$A:$D,4,FALSE)","v":67.85}]
["00803","20228065625","邢海凤","O-口腔","口腔医师",{"$f":"VLOOKUP(B16,'[1]Sheet1 (2)'!$A:$D,4,FALSE)","v":{"v":66.7,"d":"66.70"}}]
["01377","20228065628","宋明哲","O-口腔","口腔医师",{"$f":"VLOOKUP(B17,'[1]Sheet1 (2)'!$A:$D,4,FALSE)","v":{"v":66.5,"d":"66.50"}}]
["01561","20228065629","李静","O-口腔","口腔医师",{"$f":"VLOOKUP(B18,'[1]Sheet1 (2)'!$A:$D,4,FALSE)","v":64.25}]
["00077","20228065620","徐同帅","O-口腔","口腔医师",{"$f":"VLOOKUP(B19,'[1]Sheet1 (2)'!$A:$D,4,FALSE)","v":{"v":62.8,"d":"62.80"}}]
["00034","20228060409","李瑞娣","A-临床","麻醉医师",{"$f":"VLOOKUP(B20,'[1]Sheet1 (2)'!$A:$D,4,FALSE)","v":{"v":57.5,"d":"57.50"}}]
["01627","20228060425","时晓妍","A-临床","麻醉医师",{"$f":"VLOOKUP(B21,'[1]Sheet1 (2)'!$A:$D,4,FALSE)","v":{"v":55.8,"d":"55.80"}}]
["02415","20228066101","史杰","A-临床","麻醉医师",{"$f":"VLOOKUP(B22,'[1]Sheet1 (2)'!$A:$D,4,FALSE)","v":{"v":53.9,"d":"53.90"}}]
["01805","20228060427","陈慧娟","A-临床","麻醉医师",{"$f":"VLOOKUP(B23,'[1]Sheet1 (2)'!$A:$D,4,FALSE)","v":53.25}]
["01444","20228060421","张舒","A-临床","麻醉医师",{"$f":"VLOOKUP(B24,'[1]Sheet1 (2)'!$A:$D,4,FALSE)","v":52.65}]
["00264","20228060414","李君相","A-临床","麻醉医师",{"$f":"VLOOKUP(B25,'[1]Sheet1 (2)'!$A:$D,4,FALSE)","v":48.45}]
["00818","20228065723","孙鹏","M-综合","人力资源管理",{"$f":"VLOOKUP(B26,'[1]Sheet1 (2)'!$A:$D,4,FALSE)","v":{"v":43.5,"d":"43.50"}}]
["02006","20228065725","薛飞","M-综合","人力资源管理",{"$f":"VLOOKUP(B27,'[1]Sheet1 (2)'!$A:$D,4,FALSE)","v":42.45}]
["01799","20228065724","夏子程","M-综合","人力资源管理",{"$f":"VLOOKUP(B28,'[1]Sheet1 (2)'!$A:$D,4,FALSE)","v":32.45}]
["01309","20228065305","高行","K-中医","疼痛科医师",{"$f":"VLOOKUP(B29,'[1]Sheet1 (2)'!$A:$D,4,FALSE)","v":65.95}]
["01508","20228065306","黄士宏","K-中医","疼痛科医师",{"$f":"VLOOKUP(B30,'[1]Sheet1 (2)'!$A:$D,4,FALSE)","v":54.05}]
["01969","20228065308","高茂齐","K-中医","疼痛科医师",{"$f":"VLOOKUP(B31,'[1]Sheet1 (2)'!$A:$D,4,FALSE)","v":51.75}]
["01634","20228066107","时启亮","A-临床","外科医师",{"$f":"VLOOKUP(B32,'[1]Sheet1 (2)'!$A:$D,4,FALSE)","v":{"v":53.7,"d":"53.70"}}]
["00841","20228066103","于亚萍","A-临床","外科医师",{"$f":"VLOOKUP(B33,'[1]Sheet1 (2)'!$A:$D,4,FALSE)","v":52.65}]
["01371","20228066105","董琪琪","A-临床","外科医师",{"$f":"VLOOKUP(B34,'[1]Sheet1 (2)'!$A:$D,4,FALSE)","v":51.45}]
["01001","20228066104","邵光金","A-临床","外科医师",{"v":49.7,"d":"49.70"}]
["01524","20228066106","任绪文","A-临床","外科医师",48.15]
["02546","20228066109","高亚东","A-临床","外科医师",{"v":47.2,"d":"47.20"}]
["00766","20228066110","李孟茹","A-临床","血透室医师",{"$f":"VLOOKUP(B38,'[1]Sheet1 (2)'!$A:$D,4,FALSE)","v":{"v":57.7,"d":"57.70"}}]
["02508","20228066111","徐欣","A-临床","血透室医师",{"$f":"VLOOKUP(B39,'[1]Sheet1 (2)'!$A:$D,4,FALSE)","v":{"v":44.5,"d":"44.50"}}]
["01345","20228061614","刘沪东","D-西药","药剂",{"$f":"VLOOKUP(B40,'[1]Sheet1 (2)'!$A:$D,4,FALSE)","v":61.65}]
["02159","20228061619","杜欣欣","D-西药","药剂",{"$f":"VLOOKUP(B41,'[1]Sheet1 (2)'!$A:$D,4,FALSE)","v":57.25}]
["01879","20228061618","郑菲","D-西药","药剂",{"$f":"VLOOKUP(B42,'[1]Sheet1 (2)'!$A:$D,4,FALSE)","v":{"v":56.1,"d":"56.10"}}]